BEGIN:VCALENDAR
VERSION:2.0
PRODID:-//ExpressionEngine Easy iCalendar plugin//NONSGML v2.0.1//EN
X-WR-TIMEZONE:America/Chicago
X-WR-CALNAME:Upcoming Auctions
BEGIN:VEVENT
UID:158183
DTSTAMP:20260516T100000
DTSTART:20260516T100000
DTEND:20260516T120000
SUMMARY:CLASSIC CAR INDOOR AUCTION 05.16.26
LOCATION:1525 Clarence E. Chestnut Jr. Bypass\, Centre\, AL 35960\, US
DESCRIPTION:CLASSIC CAR INDOOR AUCTION and PROJECT VEHICLE SALES CORRAL 
 We are excited to announce our upcoming Classic Car Auction 
 to be held inside the old Kmart building located at 1525 Che
 stnut Bypass in Centre\, Alabama. We will also have an outdoo
 r PROJECT VEHICLE SALES CORRAL specific to project vehicles
 . Bid live in person\, by phone\, or online.  Buy/Sell Fee is
  6% for all Auction Vehicles (9% for online bids). Previews 
 will be Thursday\, May 14th and Friday\, May 15th from 9 AM u
 ntil 5 PM (CDT).  Public entry fee for Previews and Auction
  will be $20 per day or a 3-day pass for $40 (Age 12 and u
 nder free with paid adult). Accessibility: Personal wheelcha
 irs and mobility scooters are allowed. Golf carts are not a
 llowed inside the building. Pet Policy. NO PETS are allowed 
 unless the pet is a service animal. NO Exceptions. Auction V
 ehicle Registration is $150 per vehicle and is nonrefundab
 le. Project Sales Corral Vehicle Registration is $200 per v
 ehicle and is nonrefundable. No other fees will be charged
  on vehicles swapped or sold in the Project Sales Corral. AL
 L project vehicles must be complete project vehicles (Frame\,
  Body\, Motor\, Transmission\, Wheels and Tires). NO PARTS or I
 NCOMPLETE VEHICLES will be allowed. The Project Sales Corral
  will be located outside in a designated area.  The Project
  Sales Corral will be open on both preview days and on the d
 ay of the auction.  ALL entries for Auction and Project Sal
 es Corral must be approved prior to consignment.  ALL accep
 ted consignments must have current registration or title in 
 owner/seller's name. NO EXCEPTIONS. Please read complete lis
 t of Terms and Conditions for this auction.  Call us TODAY 
 at 256.927.8900 to consign your vehicle. DEADLINE for consig
 nments is May 12th at 5:00 pm.     
URL:https://www.swaffordauctiongroup.com/auctions/detail/bw15818
 3
SEQUENCE:1
END:VEVENT
END:VCALENDAR