BEGIN:VCALENDAR
VERSION:2.0
PRODID:-//ExpressionEngine Easy iCalendar plugin//NONSGML v2.0.0//EN
X-WR-TIMEZONE:America/Chicago
X-WR-CALNAME:Upcoming Auctions
BEGIN:VEVENT
UID:154496
DTSTAMP:20260221T090000
DTSTART:20260221T090000
DTEND:20260221T100000
SUMMARY:Equipment & Consignment Auction 02.21.26
LOCATION:64 County Road 452\, Section\, AL 35771\, US
DESCRIPTION:Simulcast Auction with live and on-line bidding! We are acce
 pting consignments NOW of good quality items. This includes 
 farm equipment\, construction equipment\, tractors\, trailers\, 
 ATVs\, UTVs\, RVs\, vehicles\, etc... Small items will be accept
 ed\, but NO yard sale type items will be accepted. We will ha
 ve pieces from local farms\, individuals\, and businesses. The
 re will be several knives including Benchmade\, Browning\, Buc
 k\, Case\, CRKT\, Gerber\, Smoky Mountain Blades\, Spyderco\, Zer
 o Tolerance\, and more. 2nd Amendments items including Arsena
 l Inc.\, Century Arms\, DELT-TON\, Savage Arms\, SCCY\, Smith 
 & Wesson\, ZIG\, and more.  CALL our office NOW to get maximu
 m return on your investment by getting your equipment in ear
 ly enough to take advantage of our marketing campaign. Cons
 ignment deliveries can begin on Monday\, February 9th from 8 
 a.m. until 5 p.m.
URL:https://www.swaffordauctiongroup.com/auctions/detail/bw15449
 6
SEQUENCE:1
END:VEVENT
END:VCALENDAR