BEGIN:VCALENDAR
VERSION:2.0
PRODID:-//ExpressionEngine Easy iCalendar plugin//NONSGML v2.0.0//EN
X-WR-TIMEZONE:America/Chicago
X-WR-CALNAME:Upcoming Auctions
BEGIN:VEVENT
UID:152280
DTSTAMP:20251129T120000
DTSTART:20251129T120000
DTEND:20251129T130000
SUMMARY:York Property 11.29.25
LOCATION:3250 County Road 59\, Piedmont\, AL 36272\, US
DESCRIPTION:REAL ESTATE AUCTION This property is a unique property that 
 is ready for you to complete as you wish. Additional buildi
 ng supplies will be included in the sale to help complete th
 e home. It features a mobile home that has been built around
  and rests on a permanent foundation\, along with a large sit
 e-built addition that will expand the living space. The home
  includes covered front and rear porches\, as well as a huge 
 back deck that provides excellent outdoor living opportuniti
 es. An 11' x 20' outbuilding with a 16' x 26' lean-to and a 
 16' x 32' tri-level building are also located on the propert
 y and offer useful storage or workspace options. The propert
 y is serviced by county water and has a septic tank. It als
 o offers paved road frontage on Cherokee County Road 59 for 
 easy access. The land consists of approximately 10 acres wit
 h a blend of woods and open yards\, giving the new owner flex
 ibility for recreation\, homesteading\, animals\, gardening\, or
  future development. New HVAC was installed in 2018. New roo
 f was installed in 2021. Aqua Stop Crawl Seal and Drainage M
 atting Encapsulation placed under new addition in 2022 by AF
 S. 
URL:https://www.swaffordauctiongroup.com/auctions/detail/bw15228
 0
SEQUENCE:1
END:VEVENT
END:VCALENDAR