BEGIN:VCALENDAR
VERSION:2.0
PRODID:-//ExpressionEngine Easy iCalendar plugin//NONSGML v2.0.1//EN
X-WR-TIMEZONE:America/Chicago
X-WR-CALNAME:Upcoming Auctions
BEGIN:VEVENT
UID:147264
DTSTAMP:20251025T100000
DTSTART:20251025T100000
DTEND:20251025T110000
SUMMARY:Multi Property Auction Leesburg and Centre\, Alabama
LOCATION:1415 Industrial Blvd\, Leesburg\, AL 35983\, US
DESCRIPTION:PROPERTY ONE: Brick Home on 10± Acres with Barn & Outbuildi
 ngs Don’t miss this auction opportunity! This property fea
 tures an 1\,800± sq ft brick home with 3 bedrooms and 2 bath
 s\, situated on 10± acres. The property includes a barn\, she
 d\, and multiple outbuildings\, offering plenty of space for s
 torage\, livestock\, or hobbies. Property will be offered in 2
  tracts and back as a whole\, giving you the chance to purcha
 se individual parcels or the entire property. The home is cu
 rrently rented\, and the rental agreement will be honored unt
 il April 25\, 2026. This includes the rent payment remaining 
 the same. PROPERTY TWO: Vacant 2.5 +/- multi-use acres with 
 great frontage on AL HWY 9 located midway between Centre and
  Cedar Bluff\, Alabama. This tract offers great visibility an
 d is level and ready to build on. PROPERTY THREE: 0.6 +/- a
 cres on Cherokee County Road 71. This is a unique tract with
  great County Road 71 frontage.    
URL:https://www.swaffordauctiongroup.com/auctions/detail/bw14726
 4
SEQUENCE:1
END:VEVENT
END:VCALENDAR