BEGIN:VCALENDAR
VERSION:2.0
PRODID:-//ExpressionEngine Easy iCalendar plugin//NONSGML v2.0.1//EN
X-WR-TIMEZONE:America/Chicago
X-WR-CALNAME:Upcoming Auctions
BEGIN:VEVENT
UID:146859
DTSTAMP:20250927T100000
DTSTART:20250927T100000
DTEND:20250927T110000
SUMMARY:MARVIN COCCHI ESTATE
LOCATION:2493 NEEDMORE ROAD\, BOAZ\, AL 35957\, US
DESCRIPTION:REAL ESTATE and PERSONAL PROPERTY AUCTION We are privileged 
 to offer the real estate and personal property of the Marvi
 n Cocchi Estate featuring a spacious 3\,000+/- sq ft brick h
 ome with 3 bedrooms and 3 full bathrooms\, perfect for comfor
 table living. Inside you’ll find an inviting eat-in kitche
 n\, formal dining room\, living room\, utility room\, large den\,
  and a sunroom. Enjoy relaxing on the covered front porch wi
 th country living all around you. The 1.35 +/- acre property
  also includes a 3\,750+/- sq ft metal shop building\, ideal f
 or work or storage\, plus an 880+/- sq ft outbuilding. This i
 s rare opportunity to bid on a home with this much space i
 nside and out! Personal Property Selling Absolute After Real
  Estate will include over 500 lots consisting of the followi
 ng: Vintage Cars & Parts Shop Tools & Shop Equipment Furnitu
 re & Household Items Neon Signs Advertising Collectibles: Di
 e-Cast Cars\, NASCAR\, Dolls\, Memorabilia\, and More!
URL:https://www.swaffordauctiongroup.com/auctions/detail/bw14685
 9
SEQUENCE:1
END:VEVENT
END:VCALENDAR