BEGIN:VCALENDAR
VERSION:2.0
PRODID:-//ExpressionEngine Easy iCalendar plugin//NONSGML v2.0.1//EN
X-WR-TIMEZONE:America/Chicago
X-WR-CALNAME:Upcoming Auctions
BEGIN:VEVENT
UID:145271
DTSTAMP:20251101T090000
DTSTART:20251101T090000
DTEND:20251101T100000
SUMMARY:Equipment Consignment Auction 11.01.25
LOCATION:1720 Bynum Industrial Drive\, Attalla\, AL 35954\, US
DESCRIPTION:Simulcast Auction with live and on-line bidding! We are acce
 pting consignments of good quality items. This includes farm
  equipment\, construction equipment\, tractors\, trailers\, ATVs
 \, UTVs\, RVs\, vehicles\, etc... Small items will be accepted\, 
 but NO yard sale type items will be accepted. We will have p
 ieces from local farms\, individuals\, and businesses. CALL ou
 r office or Alexander at (205) 957-9230 NOW to get maximum r
 eturn on your investment by getting your equipment in early 
 enough to take advantage of our extensive advertising campa
 ign. Consignment deliveries can begin on Monday\, October 20
 th from 8 a.m. until 5 p.m. and we will be glad to assist w
 ith unloading. This auction is in conjunction with JB Auctio
 ns LLC. Jeff Bynum ALSL #1084 1720 Bynum Industrial Drive 
 Attalla\, Alabama
URL:https://www.swaffordauctiongroup.com/auctions/detail/bw14527
 1
SEQUENCE:1
END:VEVENT
END:VCALENDAR