BEGIN:VCALENDAR
VERSION:2.0
PRODID:-//ExpressionEngine Easy iCalendar plugin//NONSGML v2.0.0//EN
X-WR-TIMEZONE:America/Chicago
X-WR-CALNAME:Upcoming Auctions
BEGIN:VEVENT
UID:138043
DTSTAMP:20250628T100000
DTSTART:20250628T100000
DTEND:20250628T110000
SUMMARY:HUGE CHATTOOGA RIVER Auction 06.28.25
LOCATION:1910 AL HWY 35 \, Gaylesville \, AL 35973\, US
DESCRIPTION:Chattooga Riverfront\, Recreational\, &Â Residential PropertyÂ
  â€“ A Rare Opportunity! Discover an unparalleled slice of n
 ature with over Â˝ mile of pristine frontage on the renowned
  Chattooga River. ThisÂ outdoorsmanâ€™s paradise awaits with
 Â majestic mature hardwoods along the riverbanks and beyond.
 Â Whether youâ€™re looking for riverfront acreage\, recreatio
 nal lots\, or investment opportunities\, this property has som
 ething for everyone! Property Highlights: 106 +/- Total Acre
 s in 55Â Lots & Tracts. 24Â Acreage Tracts (3+Â to 7 Â± acre
 s) 10 with AL HWY 35 and/or Cherokee County Road 718Â fronta
 geÂ  7 featuringÂ Chattooga RiverÂ water frontage ALL tracts
 Â will have dedicated river access via a common area 31Â Rec
 reational Lots 20 Riverfront Recreational Lots with 50+ feet
  on the Chattooga River 11Â Dry Recreational Lots ALL lotsÂ 
 will have dedicated river access via a common area OWNER FIN
 ANCING AVAILABLE! Power & Water to all lots and tracts Incre
 dible Hunting & Fishing â€“ Abundant deer\, turkey\, duck\, and
  excellent fishing & recreation This is a rare chance to own
  a piece of prime riverfront property. Perfect for outdoor e
 nthusiasts\, investors\, and nature lovers alike!
URL:https://www.swaffordauctiongroup.com/auctions/detail/bw13804
 3
SEQUENCE:1
END:VEVENT
END:VCALENDAR