BEGIN:VCALENDAR
VERSION:2.0
PRODID:-//ExpressionEngine Easy iCalendar plugin//NONSGML v2.0.1//EN
X-WR-TIMEZONE:America/Chicago
X-WR-CALNAME:Upcoming Auctions
BEGIN:VEVENT
UID:136706
DTSTAMP:20250517T100000
DTSTART:20250517T100000
DTEND:20250517T110000
SUMMARY:McElroy Property 05.17.25
LOCATION:2208 West Main Street\, Centre\, AL 35960\, US
DESCRIPTION:Prime 20 ± Acre Development Opportunity with Great US HWY 4
 11 Frontage. This highly visible property offers exceptional
  development potential with frontage on both US Hwy 411. Loc
 ated just one minute from Walmart\, shopping centers\, restaur
 ants\, and service stations\, it provides outstanding accessib
 ility in a high-traffic area. The property will be available
  in tracts\, combinations\, or as a whole\, offering flexibilit
 y to meet your development needs. Don’t miss this rare opp
 ortunity in a prime location!
URL:https://www.swaffordauctiongroup.com/auctions/detail/bw13670
 6
SEQUENCE:1
END:VEVENT
END:VCALENDAR