BEGIN:VCALENDAR
VERSION:2.0
PRODID:-//ExpressionEngine Easy iCalendar plugin//NONSGML v2.0.1//EN
X-WR-TIMEZONE:America/Chicago
X-WR-CALNAME:Upcoming Auctions
BEGIN:VEVENT
UID:136261
DTSTAMP:20250517T100000
DTSTART:20250517T100000
DTEND:20250517T110000
SUMMARY:Thornton Property 05.17.25
LOCATION:2208 West Main Street\, Centre\, AL 35960\, US
DESCRIPTION:Prime 30 ± Acre Development Opportunity with US HWY 411 an
 d OLD HWY 411 Frontage! This highly visible property offers 
 exceptional development potential with frontage on both US H
 wy 411 and Old Hwy 411. Located just one minute from Walmart
 \, shopping centers\, restaurants\, and service stations\, it pr
 ovides outstanding accessibility in a high-traffic area. The
  property will be available in tracts\, combinations\, or as a
  whole\, offering flexibility to meet your development needs.
  Don’t miss this rare opportunity in a prime location!
URL:https://www.swaffordauctiongroup.com/auctions/detail/bw13626
 1
SEQUENCE:1
END:VEVENT
END:VCALENDAR