BEGIN:VCALENDAR
VERSION:2.0
PRODID:-//ExpressionEngine Easy iCalendar plugin//NONSGML v2.0.1//EN
X-WR-TIMEZONE:America/Chicago
X-WR-CALNAME:Upcoming Auctions
BEGIN:VEVENT
UID:136244
DTSTAMP:20250412T100002
DTSTART:20250412T100002
DTEND:20250412T110002
SUMMARY:ABSOLUTE AUCTION: Robertson Property 04.12.25
LOCATION:3215 Cedar Bluff Road \, Centre\, AL 35960\, US
DESCRIPTION:LIVE AUCTION selling from another location with online biddi
 ng available!
URL:https://www.swaffordauctiongroup.com/auctions/detail/bw13624
 4
SEQUENCE:1
END:VEVENT
END:VCALENDAR