BEGIN:VCALENDAR
VERSION:2.0
PRODID:-//ExpressionEngine Easy iCalendar plugin//NONSGML v2.0.1//EN
X-WR-TIMEZONE:America/Chicago
X-WR-CALNAME:Upcoming Auctions
BEGIN:VEVENT
UID:136235
DTSTAMP:20250412T100001
DTSTART:20250412T100001
DTEND:20250412T110001
SUMMARY:ABSOLUTE AUCTION: WEISS Lake Waterfront near Alabama Belle R
 esort\, 04.12.25
LOCATION:543 County Road 531\, Centre\, AL 35960\, US
DESCRIPTION:LIVE ON-SITE AUCTION with online bidding available!
URL:https://www.swaffordauctiongroup.com/auctions/detail/bw13623
 5
SEQUENCE:1
END:VEVENT
END:VCALENDAR