BEGIN:VCALENDAR
VERSION:2.0
PRODID:-//ExpressionEngine Easy iCalendar plugin//NONSGML v2.0.1//EN
X-WR-TIMEZONE:America/Chicago
X-WR-CALNAME:Upcoming Auctions
BEGIN:VEVENT
UID:135254
DTSTAMP:20250419T100000
DTSTART:20250419T100000
DTEND:20250419T110000
SUMMARY:3rd Annual Recreational Consignment Auction\, 04.19.25
LOCATION:5770 Weiss Lake Blvd\, Leesburg\, AL 35983\, US
DESCRIPTION:LIVE ON-SITE AUCTION with online bidding available!
URL:https://www.swaffordauctiongroup.com/auctions/detail/bw13525
 4
SEQUENCE:1
END:VEVENT
END:VCALENDAR