BEGIN:VCALENDAR
VERSION:2.0
PRODID:-//ExpressionEngine Easy iCalendar plugin//NONSGML v2.0.0//EN
X-WR-TIMEZONE:America/New_York
X-WR-CALNAME:Upcoming Auctions
BEGIN:VEVENT
UID:123863
DTSTAMP:20240720T110000
DTSTART:20240720T110000
DTEND:20240720T120000
SUMMARY:5154 Gresham Road\, Douglasville\, GA 30134
LOCATION:5154 Gresham Road\, Douglasville\, GA 30134\, US
DESCRIPTION:The Estate of Thomas H. Gable
URL:https://www.swaffordauctiongroup.com/auctions/detail/bw12386
 3
SEQUENCE:1
END:VEVENT
END:VCALENDAR